BEGIN:VCALENDAR
VERSION:2.0
PRODID:-//Horní Podřevnicko - ECPv6.15.20//NONSGML v1.0//EN
CALSCALE:GREGORIAN
METHOD:PUBLISH
X-WR-CALNAME:Horní Podřevnicko
X-ORIGINAL-URL:https://hornipodrevnicko.cz
X-WR-CALDESC:Akce na Horní Podřevnicko
REFRESH-INTERVAL;VALUE=DURATION:PT1H
X-Robots-Tag:noindex
X-PUBLISHED-TTL:PT1H
BEGIN:VTIMEZONE
TZID:Europe/Prague
BEGIN:DAYLIGHT
TZOFFSETFROM:+0100
TZOFFSETTO:+0200
TZNAME:CEST
DTSTART:20230326T010000
END:DAYLIGHT
BEGIN:STANDARD
TZOFFSETFROM:+0200
TZOFFSETTO:+0100
TZNAME:CET
DTSTART:20231029T010000
END:STANDARD
BEGIN:DAYLIGHT
TZOFFSETFROM:+0100
TZOFFSETTO:+0200
TZNAME:CEST
DTSTART:20240331T010000
END:DAYLIGHT
BEGIN:STANDARD
TZOFFSETFROM:+0200
TZOFFSETTO:+0100
TZNAME:CET
DTSTART:20241027T010000
END:STANDARD
BEGIN:DAYLIGHT
TZOFFSETFROM:+0100
TZOFFSETTO:+0200
TZNAME:CEST
DTSTART:20250330T010000
END:DAYLIGHT
BEGIN:STANDARD
TZOFFSETFROM:+0200
TZOFFSETTO:+0100
TZNAME:CET
DTSTART:20251026T010000
END:STANDARD
END:VTIMEZONE
BEGIN:VEVENT
DTSTART;TZID=Europe/Prague:20240413T200000
DTEND;TZID=Europe/Prague:20240414T040000
DTSTAMP:20260423T003622
CREATED:20240402T160929Z
LAST-MODIFIED:20240402T175152Z
UID:10000003-1713038400-1713067200@hornipodrevnicko.cz
SUMMARY:Sofiana MedjMedj v Sudu
DESCRIPTION:Music club SUD Vám přináší jedinečný koncert Sofiana MedjMedj!\nJeden z největších talentů českého popu & rnb.\nSupport DJ\nAfter party s DJ\nPředprodej \nVěkové omezení 15+
URL:https://hornipodrevnicko.cz/event/sofiana-medjmedj-v-sudu/
LOCATION:Music Club SUD\, Dostihová 672\, Slušovice\, 763 15
CATEGORIES:Hudební akce
ATTACH;FMTTYPE=image/jpeg:https://hornipodrevnicko.cz/wp-content/uploads/2024/03/411266201_881340497331368_8729991239534727937_n-2.jpg
GEO:49.257124761253;17.800055842465
X-APPLE-STRUCTURED-LOCATION;VALUE=URI;X-ADDRESS=Music Club SUD Dostihová 672 Slušovice 763 15;X-APPLE-RADIUS=500;X-TITLE=Dostihová 672:geo:17.800055842465,49.257124761253
END:VEVENT
BEGIN:VEVENT
DTSTART;TZID=Europe/Prague:20240406T200000
DTEND;TZID=Europe/Prague:20240407T040000
DTSTAMP:20260423T003622
CREATED:20240402T142757Z
LAST-MODIFIED:20240402T172037Z
UID:10000001-1712433600-1712462400@hornipodrevnicko.cz
SUMMARY:Latino párty a tanečnice v sudu
DESCRIPTION:Nenechte si ujít tu pravou 100%LATINO PARTY\, skvělé drinky\, havajské věnce\, show & tanečnice a super zábavu!\nPostará se o Vás Jose Garcia jeho Dance company\, naučíte se pravé latino tance podle taneční školy a zažijete si úchvatnou latino show!\nDJ Jose Garcia\nDJ DORY \nVěkové omezení 15+
URL:https://hornipodrevnicko.cz/event/latino-party-a-tanecnice-v-sudu/
LOCATION:Music Club SUD\, Dostihová 672\, Slušovice\, 763 15
CATEGORIES:Hudební akce
ATTACH;FMTTYPE=image/jpeg:https://hornipodrevnicko.cz/wp-content/uploads/2024/03/432179398_944465557685528_6270488259923320822_n.jpg
GEO:49.257124761253;17.800055842465
X-APPLE-STRUCTURED-LOCATION;VALUE=URI;X-ADDRESS=Music Club SUD Dostihová 672 Slušovice 763 15;X-APPLE-RADIUS=500;X-TITLE=Dostihová 672:geo:17.800055842465,49.257124761253
END:VEVENT
BEGIN:VEVENT
DTSTART;TZID=Europe/Prague:20240406T190000
DTEND;TZID=Europe/Prague:20240407T020000
DTSTAMP:20260423T003622
CREATED:20240402T175651Z
LAST-MODIFIED:20240403T174000Z
UID:10000005-1712430000-1712455200@hornipodrevnicko.cz
SUMMARY:Retro párty
DESCRIPTION:Unie rodičů zve všechny na „Retro párty 70-90 léta“\, která se uskuteční 6.4.2024 v Restauraci Veselanka. Předprodej vstupenek v prodejně potravin Bala Veselá a restauraci Veselanka. Lze dokoupit večeři vepřovou panenku s anglickou slaninou a šťouchaný brambor\, která není součástí ceny vstupného. Čeká na Vás DJ Březík\, karikaturista\, bohatá tombola\, vystoupení Fyštáckých mažorektek\, fotokoutek.  Těšíme se na Vás!
URL:https://hornipodrevnicko.cz/event/retro-party/
LOCATION:Sál Restaurace Veselanka\, Veselá 33\, Veselá
CATEGORIES:Hudební akce
ATTACH;FMTTYPE=image/png:https://hornipodrevnicko.cz/wp-content/uploads/2024/04/Snimek-obrazovky-2024-04-02-v-20.03.15.png
END:VEVENT
END:VCALENDAR