BEGIN:VCALENDAR
VERSION:2.0
PRODID:-//Horní Podřevnicko - ECPv6.15.20//NONSGML v1.0//EN
CALSCALE:GREGORIAN
METHOD:PUBLISH
X-WR-CALNAME:Horní Podřevnicko
X-ORIGINAL-URL:https://hornipodrevnicko.cz
X-WR-CALDESC:Akce na Horní Podřevnicko
REFRESH-INTERVAL;VALUE=DURATION:PT1H
X-Robots-Tag:noindex
X-PUBLISHED-TTL:PT1H
BEGIN:VTIMEZONE
TZID:Europe/Prague
BEGIN:DAYLIGHT
TZOFFSETFROM:+0100
TZOFFSETTO:+0200
TZNAME:CEST
DTSTART:20230326T010000
END:DAYLIGHT
BEGIN:STANDARD
TZOFFSETFROM:+0200
TZOFFSETTO:+0100
TZNAME:CET
DTSTART:20231029T010000
END:STANDARD
BEGIN:DAYLIGHT
TZOFFSETFROM:+0100
TZOFFSETTO:+0200
TZNAME:CEST
DTSTART:20240331T010000
END:DAYLIGHT
BEGIN:STANDARD
TZOFFSETFROM:+0200
TZOFFSETTO:+0100
TZNAME:CET
DTSTART:20241027T010000
END:STANDARD
BEGIN:DAYLIGHT
TZOFFSETFROM:+0100
TZOFFSETTO:+0200
TZNAME:CEST
DTSTART:20250330T010000
END:DAYLIGHT
BEGIN:STANDARD
TZOFFSETFROM:+0200
TZOFFSETTO:+0100
TZNAME:CET
DTSTART:20251026T010000
END:STANDARD
BEGIN:DAYLIGHT
TZOFFSETFROM:+0100
TZOFFSETTO:+0200
TZNAME:CEST
DTSTART:20260329T010000
END:DAYLIGHT
BEGIN:STANDARD
TZOFFSETFROM:+0200
TZOFFSETTO:+0100
TZNAME:CET
DTSTART:20261025T010000
END:STANDARD
END:VTIMEZONE
BEGIN:VEVENT
DTSTART;TZID=Europe/Prague:20250201T210000
DTEND;TZID=Europe/Prague:20250202T020000
DTSTAMP:20260423T120241
CREATED:20250119T145336Z
LAST-MODIFIED:20250119T145336Z
UID:10000274-1738443600-1738461600@hornipodrevnicko.cz
SUMMARY:FOCUS rock a Československá party v Sudu
DESCRIPTION:DJ SÁVA\nPřijďte si užít večer plný energie\, skvělé hudby a nezapomenutelné zábavy! Protančete noc s legendární kapelou FOCUS rock a nechte se unést rytmy československých hitů.
URL:https://hornipodrevnicko.cz/event/focus-rock-a-ceskoslovenska-party-v-sudu/
LOCATION:Music Club SUD\, Dostihová 672\, Slušovice\, 763 15
CATEGORIES:Hudební akce
ATTACH;FMTTYPE=image/jpeg:https://hornipodrevnicko.cz/wp-content/uploads/2025/01/IMG_0316.jpeg
GEO:49.257124761253;17.800055842465
X-APPLE-STRUCTURED-LOCATION;VALUE=URI;X-ADDRESS=Music Club SUD Dostihová 672 Slušovice 763 15;X-APPLE-RADIUS=500;X-TITLE=Dostihová 672:geo:17.800055842465,49.257124761253
END:VEVENT
BEGIN:VEVENT
DTSTART;TZID=Europe/Prague:20241226T210000
DTEND;TZID=Europe/Prague:20241227T040000
DTSTAMP:20260423T120241
CREATED:20241209T092226Z
LAST-MODIFIED:20241209T093800Z
UID:10000243-1735246800-1735272000@hornipodrevnicko.cz
SUMMARY:NFIX & CANDICE: Štěpánská party v Sudu
DESCRIPTION:Těšte se na večer plný energie s legendární dvojicí NFIX & CANDICE\, kteří vás svým našlapaným setem dostanou do varu! Speciální host  DJ SKAP.\nPřipravte si svoje nejlepší tenisky\, protože tohle bude noc\, na kterou nezapomenete! \nVěkové omezení: 15+
URL:https://hornipodrevnicko.cz/event/nfix-candice-stepanska-party-v-sudu/
LOCATION:Music Club SUD\, Dostihová 672\, Slušovice\, 763 15
CATEGORIES:Hudební akce
ATTACH;FMTTYPE=image/jpeg:https://hornipodrevnicko.cz/wp-content/uploads/2024/12/Snimek-obrazovky-2024-12-09-v-10.21.35-ve-velke-velikosti.jpeg
GEO:49.257124761253;17.800055842465
X-APPLE-STRUCTURED-LOCATION;VALUE=URI;X-ADDRESS=Music Club SUD Dostihová 672 Slušovice 763 15;X-APPLE-RADIUS=500;X-TITLE=Dostihová 672:geo:17.800055842465,49.257124761253
END:VEVENT
BEGIN:VEVENT
DTSTART;TZID=Europe/Prague:20241218T210000
DTEND;TZID=Europe/Prague:20241219T040000
DTSTAMP:20260423T120241
CREATED:20250115T101535Z
LAST-MODIFIED:20250115T101814Z
UID:10000268-1734555600-1734580800@hornipodrevnicko.cz
SUMMARY:Zahajovací Jukebox párty 2025
DESCRIPTION:Zahajovací party roku 2025 \nJukebox party premiéra v Sudu \nChceš slyšet svou nejoblíbenější písničku?\nPořádně si zazpívat a užít si večer na maximum?\nTento večer hrajeme na přání – ty rozhoduješ\, co bude znít!\nZa mixem: DJ SKAP – připrav se na pořádnou nálož skvělé hudby!\nVěkové omezení: 15+
URL:https://hornipodrevnicko.cz/event/zahajovaci-jukebox-party-2025/
LOCATION:Music Club SUD\, Dostihová 672\, Slušovice\, 763 15
CATEGORIES:Hudební akce
ATTACH;FMTTYPE=image/jpeg:https://hornipodrevnicko.cz/wp-content/uploads/2025/01/IMG_0293-e1736935926302.jpeg
GEO:49.257124761253;17.800055842465
X-APPLE-STRUCTURED-LOCATION;VALUE=URI;X-ADDRESS=Music Club SUD Dostihová 672 Slušovice 763 15;X-APPLE-RADIUS=500;X-TITLE=Dostihová 672:geo:17.800055842465,49.257124761253
END:VEVENT
BEGIN:VEVENT
DTSTART;TZID=Europe/Prague:20241214T210000
DTEND;TZID=Europe/Prague:20241215T040000
DTSTAMP:20260423T120241
CREATED:20241209T093315Z
LAST-MODIFIED:20241209T093755Z
UID:10000244-1734210000-1734235200@hornipodrevnicko.cz
SUMMARY:Předvánoční semafor party v Sudu
DESCRIPTION:Předvánoční LEGENDÁRNÍ SEMAFOR je zpět!\nPřiprav se na nezapomenutelný mejdan\, který rozzáří Music Club SUD už 14. 12. 2024! 🌟 Na této party se tvoje nohy nezastaví – čeká tě večer plný těch největších hitů a skvělá atmosféra.\n🔴 Zadaný / Zadaná\n🟡 Flirt na jednu noc\n🟢 Volný / Volná\n🎧 DJ lineup:\nDJ LUKEŠ\nDJ KHARMA \nVěkové omezení: 15+
URL:https://hornipodrevnicko.cz/event/predvanocni-semafor-party-v-sudu/
LOCATION:Music Club SUD\, Dostihová 672\, Slušovice\, 763 15
CATEGORIES:Hudební akce
ATTACH;FMTTYPE=image/jpeg:https://hornipodrevnicko.cz/wp-content/uploads/2024/12/hhhz.jpg
GEO:49.257124761253;17.800055842465
X-APPLE-STRUCTURED-LOCATION;VALUE=URI;X-ADDRESS=Music Club SUD Dostihová 672 Slušovice 763 15;X-APPLE-RADIUS=500;X-TITLE=Dostihová 672:geo:17.800055842465,49.257124761253
END:VEVENT
BEGIN:VEVENT
DTSTART;TZID=Europe/Prague:20241123T210000
DTEND;TZID=Europe/Prague:20241124T040000
DTSTAMP:20260423T120241
CREATED:20241105T103225Z
LAST-MODIFIED:20241105T103225Z
UID:10000219-1732395600-1732420800@hornipodrevnicko.cz
SUMMARY:Sněhová párty v Sudu
DESCRIPTION:23. 11. 2024 – SNĚHOVÁ PÁRTY V SUDU!\nPřiprav se na jednu z největších akcí roku!\nLine-up\, který tě nenechá v klidu:\nSAMKO – jeden z nejdiskutovanějších DJů Česka s miliony zhlédnutí na TikToku\, jeho show jsou absolutní fenomén!\nKADR\nPRUSANDO\nKaždý z nich přináší něco speciálního – umělecký zážitek\, jaký v Sudu jen tak nezažiješ! 🎶 Těš se na energii\, která tě dostane!
URL:https://hornipodrevnicko.cz/event/snehova-party-v-sudu/
LOCATION:Music Club SUD\, Dostihová 672\, Slušovice\, 763 15
CATEGORIES:Hudební akce,Společenské akce
ATTACH;FMTTYPE=image/jpeg:https://hornipodrevnicko.cz/wp-content/uploads/2024/11/eeppfpfpf.jpg
GEO:49.257124761253;17.800055842465
X-APPLE-STRUCTURED-LOCATION;VALUE=URI;X-ADDRESS=Music Club SUD Dostihová 672 Slušovice 763 15;X-APPLE-RADIUS=500;X-TITLE=Dostihová 672:geo:17.800055842465,49.257124761253
END:VEVENT
BEGIN:VEVENT
DTSTART;TZID=Europe/Prague:20241109T210000
DTEND;TZID=Europe/Prague:20241110T040000
DTSTAMP:20260423T120241
CREATED:20241105T101020Z
LAST-MODIFIED:20241105T103405Z
UID:10000218-1731186000-1731211200@hornipodrevnicko.cz
SUMMARY:MEN4QUEEN v Sudu
DESCRIPTION:$TRIP STORY v Music Club SUD\, Slušovice\nNový koncept pánské strip show vás pobaví i nadchne!\nJste odvážná a máte ráda zábavu? Tak právě pro vás je exkluzivní celovečerní představení pánské taneční skupiny MEN4QUEEN\,\nkde prožijete nezapomenutelný večer plný vášně\, tance\, potěšení pro dámské oko a hlavně zážitek\, na který už nikdy nezapomenete.\nZapomeňte na klasické zastaralé lascivní show bez nápadu nebo ducha. Tento nový projekt představuje exkluzivní pánskou show na evropské\núrovni. Žádná laciná „svlíkačka“! Čeká vás strhující představení\, které vás nenechá v klidu. Nejenže uvidíte nádherná muskulaturní těla tanečníků\, ale také nebezpečné akrobacie\, tanec a zažijete mrazivou vášeň a potěšení!\nTo je jinými slovy MEN4QUEEN STRIP STORY SHOW.\nJEDINÁ SHOW SVÉHO DRUHU NA SVĚTĚ\nMEN4QUEEN: Tento nový a vzrušující projekt představuje exkluzivní pánskou show na evropské úrovni. V rámci této nevšední zážitkové show můžete očekávat nejen bezpečné a působivé prostředí pro oslavu ženské síly a krásy\, ale také jedinečné hosty\, kteří tuto událost zdůrazní. Kromě kvalitního standupu\, emotivní choreografie a zábavného moderování nabízíme i nevšední hosty\, kteří dodají show další rozměr a nezapomenutelnou atmosféru.\nVSTUPENKY: https://bit.ly/tickets_MEN4QUEEN
URL:https://hornipodrevnicko.cz/event/men4queen-v-sudu/
LOCATION:Music Club SUD\, Dostihová 672\, Slušovice\, 763 15
CATEGORIES:Hudební akce,Společenské akce
ATTACH;FMTTYPE=image/jpeg:https://hornipodrevnicko.cz/wp-content/uploads/2024/11/fgffffff.jpg
GEO:49.257124761253;17.800055842465
X-APPLE-STRUCTURED-LOCATION;VALUE=URI;X-ADDRESS=Music Club SUD Dostihová 672 Slušovice 763 15;X-APPLE-RADIUS=500;X-TITLE=Dostihová 672:geo:17.800055842465,49.257124761253
END:VEVENT
BEGIN:VEVENT
DTSTART;TZID=Europe/Prague:20241012T210000
DTEND;TZID=Europe/Prague:20241013T040000
DTSTAMP:20260423T120241
CREATED:20240905T165943Z
LAST-MODIFIED:20240905T170023Z
UID:10000157-1728766800-1728792000@hornipodrevnicko.cz
SUMMARY:Smack One v Sudu
DESCRIPTION:Smack One vyráží na podzimní tour v rámci které dorazí i do SUDU! Žádná show není jako Smack One Show. \nOtevření klubu v 21:00/\nKoncert v 23:00/\nSupport DJ/\nAfter party s DJ/\nDJ SKAP/ \nVěkové omezení 15+
URL:https://hornipodrevnicko.cz/event/smack-one-v-sudu/
LOCATION:Music Club SUD\, Dostihová 672\, Slušovice\, 763 15
CATEGORIES:Hudební akce
ATTACH;FMTTYPE=image/jpeg:https://hornipodrevnicko.cz/wp-content/uploads/2024/09/87f8f8888888.jpg
GEO:49.257124761253;17.800055842465
X-APPLE-STRUCTURED-LOCATION;VALUE=URI;X-ADDRESS=Music Club SUD Dostihová 672 Slušovice 763 15;X-APPLE-RADIUS=500;X-TITLE=Dostihová 672:geo:17.800055842465,49.257124761253
END:VEVENT
BEGIN:VEVENT
DTSTART;TZID=Europe/Prague:20240928T210000
DTEND;TZID=Europe/Prague:20240929T040000
DTSTAMP:20260423T120241
CREATED:20240923T113617Z
LAST-MODIFIED:20240923T113821Z
UID:10000172-1727557200-1727582400@hornipodrevnicko.cz
SUMMARY:MANENE v Sudu
DESCRIPTION:MANENE v Sudu! Plus speciální hosté – Kharma a Joker. \nVěkové omezení 15+
URL:https://hornipodrevnicko.cz/event/manene-v-sudu/
LOCATION:Music Club SUD\, Dostihová 672\, Slušovice\, 763 15
CATEGORIES:Hudební akce
ATTACH;FMTTYPE=image/jpeg:https://hornipodrevnicko.cz/wp-content/uploads/2024/09/hjhgz.jpg
GEO:49.257124761253;17.800055842465
X-APPLE-STRUCTURED-LOCATION;VALUE=URI;X-ADDRESS=Music Club SUD Dostihová 672 Slušovice 763 15;X-APPLE-RADIUS=500;X-TITLE=Dostihová 672:geo:17.800055842465,49.257124761253
END:VEVENT
BEGIN:VEVENT
DTSTART;TZID=Europe/Prague:20240921T210000
DTEND;TZID=Europe/Prague:20240922T040000
DTSTAMP:20260423T120241
CREATED:20240916T175036Z
LAST-MODIFIED:20240916T175050Z
UID:10000160-1726952400-1726977600@hornipodrevnicko.cz
SUMMARY:Československá seznamka – zapínáme pásy
DESCRIPTION:Seznamovací párty v SUDU – ČESKOSLOVENSKÁ & ZAPÍNÁME PÁSY\nU vstupu budeš mít na výběr ze 3 náramků\, podle tvého stavu.\n🔵- volný / volná\n🟡 – flirt na jednu noc\n🔴- zadaný / zadaná \nVěkové omezení 15+
URL:https://hornipodrevnicko.cz/event/ceskoslovenska-seznamka-zapiname-pasy/
LOCATION:Music Club SUD\, Dostihová 672\, Slušovice\, 763 15
CATEGORIES:Hudební akce
ATTACH;FMTTYPE=image/jpeg:https://hornipodrevnicko.cz/wp-content/uploads/2024/09/4sd54fs5df4s54d.jpg
GEO:49.257124761253;17.800055842465
X-APPLE-STRUCTURED-LOCATION;VALUE=URI;X-ADDRESS=Music Club SUD Dostihová 672 Slušovice 763 15;X-APPLE-RADIUS=500;X-TITLE=Dostihová 672:geo:17.800055842465,49.257124761253
END:VEVENT
BEGIN:VEVENT
DTSTART;TZID=Europe/Prague:20240803T210000
DTEND;TZID=Europe/Prague:20240804T040000
DTSTAMP:20260423T120241
CREATED:20240802T090834Z
LAST-MODIFIED:20240802T090834Z
UID:10000135-1722718800-1722744000@hornipodrevnicko.cz
SUMMARY:Pěnová párty v Sudu
DESCRIPTION:PĚNOVÁ PARTY V SUDU vol.2\nDalší skvělá akce v Sudu a to je vyhlášená pěnovka až po uši.🫧\nDjs:\nKHARMA\nLUKEŠ \nVěkové omezení 15+
URL:https://hornipodrevnicko.cz/event/penova-party-v-sudu-2/
LOCATION:Music Club SUD\, Dostihová 672\, Slušovice\, 763 15
CATEGORIES:Hudební akce
ATTACH;FMTTYPE=image/jpeg:https://hornipodrevnicko.cz/wp-content/uploads/2024/08/6dfg54dfg46d5f4g.jpg
GEO:49.257124761253;17.800055842465
X-APPLE-STRUCTURED-LOCATION;VALUE=URI;X-ADDRESS=Music Club SUD Dostihová 672 Slušovice 763 15;X-APPLE-RADIUS=500;X-TITLE=Dostihová 672:geo:17.800055842465,49.257124761253
END:VEVENT
BEGIN:VEVENT
DTSTART;TZID=Europe/Prague:20240720T210000
DTEND;TZID=Europe/Prague:20240721T040000
DTSTAMP:20260423T120241
CREATED:20240701T091954Z
LAST-MODIFIED:20240701T091954Z
UID:10000118-1721509200-1721534400@hornipodrevnicko.cz
SUMMARY:Hawai párty v Sudu
DESCRIPTION:Na 20.7.2024 si už nic neplánuj!! Máme pro Tebe párty na kterou NEZAPOMENEŠ Největší HAWAI PARTY v okolí sh\nBudeme rozdávat havajské věnce!\nDJS→\nNFIX & CANDICE\nDJ LUKEŠ
URL:https://hornipodrevnicko.cz/event/hawai-party-v-sudu/
LOCATION:Music Club SUD\, Dostihová 672\, Slušovice\, 763 15
CATEGORIES:Hudební akce
ATTACH;FMTTYPE=image/jpeg:https://hornipodrevnicko.cz/wp-content/uploads/2024/07/449156258_1023804896418260_5321639445028353849_n-kopie.jpg
GEO:49.257124761253;17.800055842465
X-APPLE-STRUCTURED-LOCATION;VALUE=URI;X-ADDRESS=Music Club SUD Dostihová 672 Slušovice 763 15;X-APPLE-RADIUS=500;X-TITLE=Dostihová 672:geo:17.800055842465,49.257124761253
END:VEVENT
BEGIN:VEVENT
DTSTART;TZID=Europe/Prague:20240629T210000
DTEND;TZID=Europe/Prague:20240630T040000
DTSTAMP:20260423T120241
CREATED:20240601T185108Z
LAST-MODIFIED:20240601T185441Z
UID:10000084-1719694800-1719720000@hornipodrevnicko.cz
SUMMARY:Pěnová párty v Sudu
DESCRIPTION:Na začátku prázdnin si užiješ tu nejlepší party Sudu!DJS – SKAP– YAXED \nVěkové omezení 15+
URL:https://hornipodrevnicko.cz/event/penova-party-v-sudu/
LOCATION:Music Club SUD\, Dostihová 672\, Slušovice\, 763 15
CATEGORIES:Hudební akce
ATTACH;FMTTYPE=image/jpeg:https://hornipodrevnicko.cz/wp-content/uploads/2024/06/443838826_1000151752116908_7223261286134900478_n.jpg
GEO:49.257124761253;17.800055842465
X-APPLE-STRUCTURED-LOCATION;VALUE=URI;X-ADDRESS=Music Club SUD Dostihová 672 Slušovice 763 15;X-APPLE-RADIUS=500;X-TITLE=Dostihová 672:geo:17.800055842465,49.257124761253
END:VEVENT
BEGIN:VEVENT
DTSTART;TZID=Europe/Prague:20240511T200000
DTEND;TZID=Europe/Prague:20240512T040000
DTSTAMP:20260423T120241
CREATED:20240428T185819Z
LAST-MODIFIED:20240428T185932Z
UID:10000061-1715457600-1715486400@hornipodrevnicko.cz
SUMMARY:BE REAL by KHARMA poprvé v Sudu
DESCRIPTION:Koncept BE REAL by KHARMA poprvé v Sudu!\nZajímá tě co je BE REAL? Tak vem svoje friends a doraž 11. května do Sudu do Slušovic!\nDJka KHARMA\n– secret guest\n– show s efekty\, jakou Sud ještě neviděl\n– vybraný alkohol ZDARMA\n– profi výstup z akce\, kde budeš vidět!\n– dárek pro prvních 100 příchozích\nvsoutěže – sleduj IG!\n– překvapení pro vás\n….a mnohem víc!\nVěkové omezení 15+
URL:https://hornipodrevnicko.cz/event/be-real-by-kharma-poprve-v-sudu/
LOCATION:Music Club SUD\, Dostihová 672\, Slušovice\, 763 15
CATEGORIES:Hudební akce
ATTACH;FMTTYPE=image/jpeg:https://hornipodrevnicko.cz/wp-content/uploads/2024/04/poaas.jpg
GEO:49.257124761253;17.800055842465
X-APPLE-STRUCTURED-LOCATION;VALUE=URI;X-ADDRESS=Music Club SUD Dostihová 672 Slušovice 763 15;X-APPLE-RADIUS=500;X-TITLE=Dostihová 672:geo:17.800055842465,49.257124761253
END:VEVENT
BEGIN:VEVENT
DTSTART;TZID=Europe/Prague:20240504T200000
DTEND;TZID=Europe/Prague:20240505T040000
DTSTAMP:20260423T120241
CREATED:20240428T184928Z
LAST-MODIFIED:20240428T185001Z
UID:10000060-1714852800-1714881600@hornipodrevnicko.cz
SUMMARY:Československá v Sudu
DESCRIPTION:Hezky česky a slovensky! Můžete se těšit na klasický taneční československý výběr. Celou noc vás bude provázet a pouštět nejlepší hity DJ SÁVA + DJ ZAPLIK \nVěkové omezení 15+
URL:https://hornipodrevnicko.cz/event/ceskoslovenska-v-sudu/
LOCATION:Music Club SUD\, Dostihová 672\, Slušovice\, 763 15
CATEGORIES:Hudební akce
ATTACH;FMTTYPE=image/jpeg:https://hornipodrevnicko.cz/wp-content/uploads/2024/04/cz.jpg
GEO:49.257124761253;17.800055842465
X-APPLE-STRUCTURED-LOCATION;VALUE=URI;X-ADDRESS=Music Club SUD Dostihová 672 Slušovice 763 15;X-APPLE-RADIUS=500;X-TITLE=Dostihová 672:geo:17.800055842465,49.257124761253
END:VEVENT
BEGIN:VEVENT
DTSTART;TZID=Europe/Prague:20240427T200000
DTEND;TZID=Europe/Prague:20240428T040000
DTSTAMP:20260423T120241
CREATED:20240426T144910Z
LAST-MODIFIED:20240426T145010Z
UID:10000059-1714248000-1714276800@hornipodrevnicko.cz
SUMMARY:MATAMAR CIRCLE 360° Stage uprostřed klubu
DESCRIPTION:MATAMAR CIRCLE: 360° vyráží na tour po Česku a Slovensku a jedna z největších zastávek bude i ve Slušovicích v SUDU! \nLineup𝗠𝗔𝗧𝗔𝗠𝗔𝗥support: THADEAS LUKEŠ \nMATAMAR Circle 360°sobota 27.4.2024SUD Music Club\, SlušoviceVěkové omezení 15+Start 21:00
URL:https://hornipodrevnicko.cz/event/matamar-circle-360-stage-uprostred-klubu/
LOCATION:Music Club SUD\, Dostihová 672\, Slušovice\, 763 15
CATEGORIES:Hudební akce
ATTACH;FMTTYPE=image/jpeg:https://hornipodrevnicko.cz/wp-content/uploads/2024/04/sd6f4s6d54fs65d4f.jpg
GEO:49.257124761253;17.800055842465
X-APPLE-STRUCTURED-LOCATION;VALUE=URI;X-ADDRESS=Music Club SUD Dostihová 672 Slušovice 763 15;X-APPLE-RADIUS=500;X-TITLE=Dostihová 672:geo:17.800055842465,49.257124761253
END:VEVENT
BEGIN:VEVENT
DTSTART;TZID=Europe/Prague:20240420T200000
DTEND;TZID=Europe/Prague:20240421T040000
DTSTAMP:20260423T120241
CREATED:20240409T194354Z
LAST-MODIFIED:20240418T083515Z
UID:10000036-1713643200-1713672000@hornipodrevnicko.cz
SUMMARY:Focus + Československá párty DJ Sáva
DESCRIPTION:Věkové omezení 15+
URL:https://hornipodrevnicko.cz/event/focus-ceskoslovenska-party-dj-sava/
LOCATION:Music Club SUD\, Dostihová 672\, Slušovice\, 763 15
CATEGORIES:Hudební akce
ATTACH;FMTTYPE=image/jpeg:https://hornipodrevnicko.cz/wp-content/uploads/2024/04/y65d45we.jpg
GEO:49.257124761253;17.800055842465
X-APPLE-STRUCTURED-LOCATION;VALUE=URI;X-ADDRESS=Music Club SUD Dostihová 672 Slušovice 763 15;X-APPLE-RADIUS=500;X-TITLE=Dostihová 672:geo:17.800055842465,49.257124761253
END:VEVENT
BEGIN:VEVENT
DTSTART;TZID=Europe/Prague:20240413T200000
DTEND;TZID=Europe/Prague:20240414T040000
DTSTAMP:20260423T120241
CREATED:20240402T160929Z
LAST-MODIFIED:20240402T175152Z
UID:10000003-1713038400-1713067200@hornipodrevnicko.cz
SUMMARY:Sofiana MedjMedj v Sudu
DESCRIPTION:Music club SUD Vám přináší jedinečný koncert Sofiana MedjMedj!\nJeden z největších talentů českého popu & rnb.\nSupport DJ\nAfter party s DJ\nPředprodej \nVěkové omezení 15+
URL:https://hornipodrevnicko.cz/event/sofiana-medjmedj-v-sudu/
LOCATION:Music Club SUD\, Dostihová 672\, Slušovice\, 763 15
CATEGORIES:Hudební akce
ATTACH;FMTTYPE=image/jpeg:https://hornipodrevnicko.cz/wp-content/uploads/2024/03/411266201_881340497331368_8729991239534727937_n-2.jpg
GEO:49.257124761253;17.800055842465
X-APPLE-STRUCTURED-LOCATION;VALUE=URI;X-ADDRESS=Music Club SUD Dostihová 672 Slušovice 763 15;X-APPLE-RADIUS=500;X-TITLE=Dostihová 672:geo:17.800055842465,49.257124761253
END:VEVENT
BEGIN:VEVENT
DTSTART;TZID=Europe/Prague:20240406T200000
DTEND;TZID=Europe/Prague:20240407T040000
DTSTAMP:20260423T120241
CREATED:20240402T142757Z
LAST-MODIFIED:20240402T172037Z
UID:10000001-1712433600-1712462400@hornipodrevnicko.cz
SUMMARY:Latino párty a tanečnice v sudu
DESCRIPTION:Nenechte si ujít tu pravou 100%LATINO PARTY\, skvělé drinky\, havajské věnce\, show & tanečnice a super zábavu!\nPostará se o Vás Jose Garcia jeho Dance company\, naučíte se pravé latino tance podle taneční školy a zažijete si úchvatnou latino show!\nDJ Jose Garcia\nDJ DORY \nVěkové omezení 15+
URL:https://hornipodrevnicko.cz/event/latino-party-a-tanecnice-v-sudu/
LOCATION:Music Club SUD\, Dostihová 672\, Slušovice\, 763 15
CATEGORIES:Hudební akce
ATTACH;FMTTYPE=image/jpeg:https://hornipodrevnicko.cz/wp-content/uploads/2024/03/432179398_944465557685528_6270488259923320822_n.jpg
GEO:49.257124761253;17.800055842465
X-APPLE-STRUCTURED-LOCATION;VALUE=URI;X-ADDRESS=Music Club SUD Dostihová 672 Slušovice 763 15;X-APPLE-RADIUS=500;X-TITLE=Dostihová 672:geo:17.800055842465,49.257124761253
END:VEVENT
BEGIN:VEVENT
DTSTART;TZID=Europe/Prague:20240406T190000
DTEND;TZID=Europe/Prague:20240407T020000
DTSTAMP:20260423T120241
CREATED:20240402T175651Z
LAST-MODIFIED:20240403T174000Z
UID:10000005-1712430000-1712455200@hornipodrevnicko.cz
SUMMARY:Retro párty
DESCRIPTION:Unie rodičů zve všechny na „Retro párty 70-90 léta“\, která se uskuteční 6.4.2024 v Restauraci Veselanka. Předprodej vstupenek v prodejně potravin Bala Veselá a restauraci Veselanka. Lze dokoupit večeři vepřovou panenku s anglickou slaninou a šťouchaný brambor\, která není součástí ceny vstupného. Čeká na Vás DJ Březík\, karikaturista\, bohatá tombola\, vystoupení Fyštáckých mažorektek\, fotokoutek.  Těšíme se na Vás!
URL:https://hornipodrevnicko.cz/event/retro-party/
LOCATION:Sál Restaurace Veselanka\, Veselá 33\, Veselá
CATEGORIES:Hudební akce
ATTACH;FMTTYPE=image/png:https://hornipodrevnicko.cz/wp-content/uploads/2024/04/Snimek-obrazovky-2024-04-02-v-20.03.15.png
END:VEVENT
END:VCALENDAR