BEGIN:VCALENDAR
VERSION:2.0
PRODID:-//Horní Podřevnicko - ECPv6.15.20//NONSGML v1.0//EN
CALSCALE:GREGORIAN
METHOD:PUBLISH
X-ORIGINAL-URL:https://hornipodrevnicko.cz
X-WR-CALDESC:Akce na Horní Podřevnicko
REFRESH-INTERVAL;VALUE=DURATION:PT1H
X-Robots-Tag:noindex
X-PUBLISHED-TTL:PT1H
BEGIN:VTIMEZONE
TZID:Europe/Prague
BEGIN:DAYLIGHT
TZOFFSETFROM:+0100
TZOFFSETTO:+0200
TZNAME:CEST
DTSTART:20240331T010000
END:DAYLIGHT
BEGIN:STANDARD
TZOFFSETFROM:+0200
TZOFFSETTO:+0100
TZNAME:CET
DTSTART:20241027T010000
END:STANDARD
BEGIN:DAYLIGHT
TZOFFSETFROM:+0100
TZOFFSETTO:+0200
TZNAME:CEST
DTSTART:20250330T010000
END:DAYLIGHT
BEGIN:STANDARD
TZOFFSETFROM:+0200
TZOFFSETTO:+0100
TZNAME:CET
DTSTART:20251026T010000
END:STANDARD
BEGIN:DAYLIGHT
TZOFFSETFROM:+0100
TZOFFSETTO:+0200
TZNAME:CEST
DTSTART:20260329T010000
END:DAYLIGHT
BEGIN:STANDARD
TZOFFSETFROM:+0200
TZOFFSETTO:+0100
TZNAME:CET
DTSTART:20261025T010000
END:STANDARD
END:VTIMEZONE
BEGIN:VEVENT
DTSTART;TZID=Europe/Prague:20251213T200000
DTEND;TZID=Europe/Prague:20251213T200000
DTSTAMP:20260422T132236
CREATED:20251103T173939Z
LAST-MODIFIED:20251103T174004Z
UID:10000834-1765656000-1765656000@hornipodrevnicko.cz
SUMMARY:Oslava 5 let kapely NIEMANDI - křest alba "Nikdo mezi všemi"
DESCRIPTION:NIEMANDI SLAVÍ 5 LET A KŘTÍ ALBUM! \nTuto velkolepou oslavu pěti let kapely\, spojenou s křtem prvního studiového alba Nikdo mezi všemi\, si zkrátka nesmíte nechat ujít. \nSejdeme se a oslavíme Niemandí půlkulaté narozeniny ve velkém stylu\, jak se sluší a patří. Zapiš si datum do kalendáře a nezapomeň přijít!
URL:https://hornipodrevnicko.cz/event/oslavu-5-let-kapely-niemandi-krest-alba-nikdo-mezi-vsemi/
LOCATION:Music Club SUD\, Dostihová 672\, Slušovice\, 763 15
CATEGORIES:Hudební akce
ATTACH;FMTTYPE=image/jpeg:https://hornipodrevnicko.cz/wp-content/uploads/2025/11/adasasd.jpg
GEO:49.257124761253;17.800055842465
X-APPLE-STRUCTURED-LOCATION;VALUE=URI;X-ADDRESS=Music Club SUD Dostihová 672 Slušovice 763 15;X-APPLE-RADIUS=500;X-TITLE=Dostihová 672:geo:17.800055842465,49.257124761253
END:VEVENT
END:VCALENDAR