BEGIN:VCALENDAR
VERSION:2.0
PRODID:-//Horní Podřevnicko - ECPv6.15.20//NONSGML v1.0//EN
CALSCALE:GREGORIAN
METHOD:PUBLISH
X-WR-CALNAME:Horní Podřevnicko
X-ORIGINAL-URL:https://hornipodrevnicko.cz
X-WR-CALDESC:Akce na Horní Podřevnicko
REFRESH-INTERVAL;VALUE=DURATION:PT1H
X-Robots-Tag:noindex
X-PUBLISHED-TTL:PT1H
BEGIN:VTIMEZONE
TZID:Europe/Prague
BEGIN:DAYLIGHT
TZOFFSETFROM:+0100
TZOFFSETTO:+0200
TZNAME:CEST
DTSTART:20240331T010000
END:DAYLIGHT
BEGIN:STANDARD
TZOFFSETFROM:+0200
TZOFFSETTO:+0100
TZNAME:CET
DTSTART:20241027T010000
END:STANDARD
BEGIN:DAYLIGHT
TZOFFSETFROM:+0100
TZOFFSETTO:+0200
TZNAME:CEST
DTSTART:20250330T010000
END:DAYLIGHT
BEGIN:STANDARD
TZOFFSETFROM:+0200
TZOFFSETTO:+0100
TZNAME:CET
DTSTART:20251026T010000
END:STANDARD
BEGIN:DAYLIGHT
TZOFFSETFROM:+0100
TZOFFSETTO:+0200
TZNAME:CEST
DTSTART:20260329T010000
END:DAYLIGHT
BEGIN:STANDARD
TZOFFSETFROM:+0200
TZOFFSETTO:+0100
TZNAME:CET
DTSTART:20261025T010000
END:STANDARD
END:VTIMEZONE
BEGIN:VEVENT
DTSTART;TZID=Europe/Prague:20250620T190000
DTEND;TZID=Europe/Prague:20250621T040000
DTSTAMP:20260422T224727
CREATED:20250619T125441Z
LAST-MODIFIED:20250619T125441Z
UID:10000395-1750446000-1750478400@hornipodrevnicko.cz
SUMMARY:SUMMER PARTY – OPEN AIR SUD / NIEMANDI
DESCRIPTION:2 STAGE – 1 NOC – MAXIMUM ZÁŽITKU!\nV pátek 20. června se SUD promění v epicentrum letní párty!\nOPEN AIR před klubem ovládnou NIEMANDI s energickým live vystoupením pod širým nebem!\nUvnitř to rozjedou DJ YAXED a DJ MATHEW na klubové stage až do rána!\nLetní drinky\, dvě scény\, jeden nezapomenutelný večer! \nVěkové omezení: 15+
URL:https://hornipodrevnicko.cz/event/summer-party-open-air-sud-niemandi/
LOCATION:Music Club SUD\, Dostihová 672\, Slušovice\, 763 15
CATEGORIES:Hudební akce
ATTACH;FMTTYPE=image/jpeg:https://hornipodrevnicko.cz/wp-content/uploads/2025/06/ds65f4s6f45s65f4sd65f4ds6f54ds.jpg
GEO:49.257124761253;17.800055842465
X-APPLE-STRUCTURED-LOCATION;VALUE=URI;X-ADDRESS=Music Club SUD Dostihová 672 Slušovice 763 15;X-APPLE-RADIUS=500;X-TITLE=Dostihová 672:geo:17.800055842465,49.257124761253
END:VEVENT
END:VCALENDAR