BEGIN:VCALENDAR
VERSION:2.0
PRODID:-//Horní Podřevnicko - ECPv6.15.20//NONSGML v1.0//EN
CALSCALE:GREGORIAN
METHOD:PUBLISH
X-WR-CALNAME:Horní Podřevnicko
X-ORIGINAL-URL:https://hornipodrevnicko.cz
X-WR-CALDESC:Akce na Horní Podřevnicko
REFRESH-INTERVAL;VALUE=DURATION:PT1H
X-Robots-Tag:noindex
X-PUBLISHED-TTL:PT1H
BEGIN:VTIMEZONE
TZID:Europe/Prague
BEGIN:DAYLIGHT
TZOFFSETFROM:+0100
TZOFFSETTO:+0200
TZNAME:CEST
DTSTART:20240331T010000
END:DAYLIGHT
BEGIN:STANDARD
TZOFFSETFROM:+0200
TZOFFSETTO:+0100
TZNAME:CET
DTSTART:20241027T010000
END:STANDARD
BEGIN:DAYLIGHT
TZOFFSETFROM:+0100
TZOFFSETTO:+0200
TZNAME:CEST
DTSTART:20250330T010000
END:DAYLIGHT
BEGIN:STANDARD
TZOFFSETFROM:+0200
TZOFFSETTO:+0100
TZNAME:CET
DTSTART:20251026T010000
END:STANDARD
BEGIN:DAYLIGHT
TZOFFSETFROM:+0100
TZOFFSETTO:+0200
TZNAME:CEST
DTSTART:20260329T010000
END:DAYLIGHT
BEGIN:STANDARD
TZOFFSETFROM:+0200
TZOFFSETTO:+0100
TZNAME:CET
DTSTART:20261025T010000
END:STANDARD
END:VTIMEZONE
BEGIN:VEVENT
DTSTART;TZID=Europe/Prague:20250215T210000
DTEND;TZID=Europe/Prague:20250216T040000
DTSTAMP:20260423T053541
CREATED:20250206T122131Z
LAST-MODIFIED:20250224T100203Z
UID:10000283-1739653200-1739678400@hornipodrevnicko.cz
SUMMARY:Valentýnská seznamka KISS OR SLAP v Sudu
DESCRIPTION:Valentýnská seznamka KISS OR SLAP 💋\nNa vstupu si vybereš jeden ze dvou náramků podle svého stavu:\n❤️ KISS/FLIRT – Jsi připraven/a flirtovat?\n💙 SLAP/ZADANÝ-Á – Jen na párty s přáteli!\nHlavní program:\nHeadliner: MATAMAR\nSupport: BEHY\nStudent Beats \nVěkové omezení: 15+
URL:https://hornipodrevnicko.cz/event/valentynska-seznamka-kiss-or-slap-v-sudu/
LOCATION:Music Club SUD\, Dostihová 672\, Slušovice\, 763 15
CATEGORIES:Hudební akce
ATTACH;FMTTYPE=image/jpeg:https://hornipodrevnicko.cz/wp-content/uploads/2025/02/Snimek-obrazovky-2025-02-06-v-13.18.16-ve-velke-velikosti.jpeg
GEO:49.257124761253;17.800055842465
X-APPLE-STRUCTURED-LOCATION;VALUE=URI;X-ADDRESS=Music Club SUD Dostihová 672 Slušovice 763 15;X-APPLE-RADIUS=500;X-TITLE=Dostihová 672:geo:17.800055842465,49.257124761253
END:VEVENT
END:VCALENDAR