BEGIN:VCALENDAR
VERSION:2.0
PRODID:-//Horní Podřevnicko - ECPv6.15.20//NONSGML v1.0//EN
CALSCALE:GREGORIAN
METHOD:PUBLISH
X-ORIGINAL-URL:https://hornipodrevnicko.cz
X-WR-CALDESC:Akce na Horní Podřevnicko
REFRESH-INTERVAL;VALUE=DURATION:PT1H
X-Robots-Tag:noindex
X-PUBLISHED-TTL:PT1H
BEGIN:VTIMEZONE
TZID:Europe/Prague
BEGIN:DAYLIGHT
TZOFFSETFROM:+0100
TZOFFSETTO:+0200
TZNAME:CEST
DTSTART:20230326T010000
END:DAYLIGHT
BEGIN:STANDARD
TZOFFSETFROM:+0200
TZOFFSETTO:+0100
TZNAME:CET
DTSTART:20231029T010000
END:STANDARD
BEGIN:DAYLIGHT
TZOFFSETFROM:+0100
TZOFFSETTO:+0200
TZNAME:CEST
DTSTART:20240331T010000
END:DAYLIGHT
BEGIN:STANDARD
TZOFFSETFROM:+0200
TZOFFSETTO:+0100
TZNAME:CET
DTSTART:20241027T010000
END:STANDARD
BEGIN:DAYLIGHT
TZOFFSETFROM:+0100
TZOFFSETTO:+0200
TZNAME:CEST
DTSTART:20250330T010000
END:DAYLIGHT
BEGIN:STANDARD
TZOFFSETFROM:+0200
TZOFFSETTO:+0100
TZNAME:CET
DTSTART:20251026T010000
END:STANDARD
END:VTIMEZONE
BEGIN:VEVENT
DTSTART;TZID=Europe/Prague:20240629T210000
DTEND;TZID=Europe/Prague:20240630T040000
DTSTAMP:20260423T183825
CREATED:20240601T185108Z
LAST-MODIFIED:20240601T185441Z
UID:10000084-1719694800-1719720000@hornipodrevnicko.cz
SUMMARY:Pěnová párty v Sudu
DESCRIPTION:Na začátku prázdnin si užiješ tu nejlepší party Sudu!DJS – SKAP– YAXED \nVěkové omezení 15+
URL:https://hornipodrevnicko.cz/event/penova-party-v-sudu/
LOCATION:Music Club SUD\, Dostihová 672\, Slušovice\, 763 15
CATEGORIES:Hudební akce
ATTACH;FMTTYPE=image/jpeg:https://hornipodrevnicko.cz/wp-content/uploads/2024/06/443838826_1000151752116908_7223261286134900478_n.jpg
GEO:49.257124761253;17.800055842465
X-APPLE-STRUCTURED-LOCATION;VALUE=URI;X-ADDRESS=Music Club SUD Dostihová 672 Slušovice 763 15;X-APPLE-RADIUS=500;X-TITLE=Dostihová 672:geo:17.800055842465,49.257124761253
END:VEVENT
END:VCALENDAR